BEGIN:VCALENDAR
VERSION:2.0
PRODID:-//Coorace Occitanie - ECPv6.5.1.5//NONSGML v1.0//EN
CALSCALE:GREGORIAN
METHOD:PUBLISH
X-ORIGINAL-URL:https://www.cooraceoccitanie.org
X-WR-CALDESC:évènements pour Coorace Occitanie
REFRESH-INTERVAL;VALUE=DURATION:PT1H
X-Robots-Tag:noindex
X-PUBLISHED-TTL:PT1H
BEGIN:VTIMEZONE
TZID:Europe/Paris
BEGIN:DAYLIGHT
TZOFFSETFROM:+0100
TZOFFSETTO:+0200
TZNAME:CEST
DTSTART:20240331T010000
END:DAYLIGHT
BEGIN:STANDARD
TZOFFSETFROM:+0200
TZOFFSETTO:+0100
TZNAME:CET
DTSTART:20241027T010000
END:STANDARD
END:VTIMEZONE
BEGIN:VEVENT
DTSTART;TZID=Europe/Paris:20240514T140000
DTEND;TZID=Europe/Paris:20240514T140000
DTSTAMP:20260423T122420
CREATED:20231016T144517Z
LAST-MODIFIED:20240201T153953Z
UID:7011-1715695200-1715695200@www.cooraceoccitanie.org
SUMMARY:Groupe d'échanges de pratiques développement économique
DESCRIPTION:
URL:https://www.cooraceoccitanie.org/evenement/groupe-dechanges-de-pratiques-developpement-economique-2/
LOCATION:à distance
ATTACH;FMTTYPE=image/png:https://www.cooraceoccitanie.org/wp-content/uploads/2022/09/people-3245739.png
ORGANIZER;CN="COORACE Occitanie":MAILTO:contact@cooraceoccitanie.org
END:VEVENT
BEGIN:VEVENT
DTSTART;TZID=Europe/Paris:20240516T093000
DTEND;TZID=Europe/Paris:20240516T160000
DTSTAMP:20260423T122420
CREATED:20240118T154345Z
LAST-MODIFIED:20240415T092304Z
UID:7187-1715851800-1715875200@www.cooraceoccitanie.org
SUMMARY:Assemblée Générale de Coorace Occitanie
DESCRIPTION:
URL:https://www.cooraceoccitanie.org/evenement/assemblee-generale-de-coorace-occitanie/
LOCATION:Villefranche de Rouergue\, 12200\, France
ATTACH;FMTTYPE=image/png:https://www.cooraceoccitanie.org/wp-content/uploads/2024/01/Assemblee-Generale-2024-11.png
ORGANIZER;CN="COORACE Occitanie":MAILTO:contact@cooraceoccitanie.org
END:VEVENT
BEGIN:VEVENT
DTSTART;TZID=Europe/Paris:20240527T090000
DTEND;TZID=Europe/Paris:20240527T100000
DTSTAMP:20260423T122420
CREATED:20240130T151846Z
LAST-MODIFIED:20240524T133901Z
UID:7316-1716800400-1716804000@www.cooraceoccitanie.org
SUMMARY:Petit dej Plaidoyer
DESCRIPTION:
URL:https://www.cooraceoccitanie.org/evenement/petit-dej-plaidoyer/
LOCATION:à distance
ATTACH;FMTTYPE=image/jpeg:https://www.cooraceoccitanie.org/wp-content/uploads/2024/01/plaidoyer-scaled.jpg
END:VEVENT
BEGIN:VEVENT
DTSTART;TZID=Europe/Paris:20240528T090000
DTEND;TZID=Europe/Paris:20240528T170000
DTSTAMP:20260423T122420
CREATED:20240524T134118Z
LAST-MODIFIED:20240524T134118Z
UID:7561-1716886800-1716915600@www.cooraceoccitanie.org
SUMMARY:Formation "Marchés publics"
DESCRIPTION:
URL:https://www.cooraceoccitanie.org/evenement/formation-marches-publics-2/
LOCATION:à distance
ATTACH;FMTTYPE=image/png:https://www.cooraceoccitanie.org/wp-content/uploads/2023/10/logo-irio-complet-e1697466703413.png
END:VEVENT
END:VCALENDAR