BEGIN:VCALENDAR
VERSION:2.0
PRODID:-//Coorace Occitanie - ECPv6.5.1.5//NONSGML v1.0//EN
CALSCALE:GREGORIAN
METHOD:PUBLISH
X-WR-CALNAME:Coorace Occitanie
X-ORIGINAL-URL:https://www.cooraceoccitanie.org
X-WR-CALDESC:évènements pour Coorace Occitanie
REFRESH-INTERVAL;VALUE=DURATION:PT1H
X-Robots-Tag:noindex
X-PUBLISHED-TTL:PT1H
BEGIN:VTIMEZONE
TZID:Europe/Paris
BEGIN:DAYLIGHT
TZOFFSETFROM:+0100
TZOFFSETTO:+0200
TZNAME:CEST
DTSTART:20240331T010000
END:DAYLIGHT
BEGIN:STANDARD
TZOFFSETFROM:+0200
TZOFFSETTO:+0100
TZNAME:CET
DTSTART:20241027T010000
END:STANDARD
END:VTIMEZONE
BEGIN:VEVENT
DTSTART;TZID=Europe/Paris:20240425T140000
DTEND;TZID=Europe/Paris:20240425T170000
DTSTAMP:20260423T135506
CREATED:20240130T151350Z
LAST-MODIFIED:20240415T092703Z
UID:7310-1714053600-1714064400@www.cooraceoccitanie.org
SUMMARY:Tour de France Coorace sur l’organisation stratégique du réseau
DESCRIPTION:
URL:https://www.cooraceoccitanie.org/evenement/tour-de-france-coorace-sur-lorganisation-strategique-du-reseau/
LOCATION:Periscope\, 7 rue Hermes\, Ramonville saint Agne\, 31520\, France
ATTACH;FMTTYPE=image/png:https://www.cooraceoccitanie.org/wp-content/uploads/2024/01/banniere-tour-de-france-OSR-2024-OCCITANIE.png
ORGANIZER;CN="COORACE Occitanie":MAILTO:contact@cooraceoccitanie.org
END:VEVENT
BEGIN:VEVENT
DTSTART;TZID=Europe/Paris:20240430T140000
DTEND;TZID=Europe/Paris:20240430T160000
DTSTAMP:20260423T135506
CREATED:20240415T093256Z
LAST-MODIFIED:20240415T093256Z
UID:7482-1714485600-1714492800@www.cooraceoccitanie.org
SUMMARY:Groupe d'échanges de pratiques CIP
DESCRIPTION:
URL:https://www.cooraceoccitanie.org/evenement/groupe-dechanges-de-pratiques-cip-2/
LOCATION:à distance
ATTACH;FMTTYPE=image/jpeg:https://www.cooraceoccitanie.org/wp-content/uploads/2023/10/meeting-4784911_1920-scaled.jpg
ORGANIZER;CN="COORACE Occitanie":MAILTO:contact@cooraceoccitanie.org
END:VEVENT
END:VCALENDAR