BEGIN:VCALENDAR
VERSION:2.0
PRODID:-//Coorace Occitanie - ECPv6.5.1.5//NONSGML v1.0//EN
CALSCALE:GREGORIAN
METHOD:PUBLISH
X-WR-CALNAME:Coorace Occitanie
X-ORIGINAL-URL:https://www.cooraceoccitanie.org
X-WR-CALDESC:évènements pour Coorace Occitanie
REFRESH-INTERVAL;VALUE=DURATION:PT1H
X-Robots-Tag:noindex
X-PUBLISHED-TTL:PT1H
BEGIN:VTIMEZONE
TZID:Europe/Paris
BEGIN:DAYLIGHT
TZOFFSETFROM:+0100
TZOFFSETTO:+0200
TZNAME:CEST
DTSTART:20230326T010000
END:DAYLIGHT
BEGIN:STANDARD
TZOFFSETFROM:+0200
TZOFFSETTO:+0100
TZNAME:CET
DTSTART:20231029T010000
END:STANDARD
END:VTIMEZONE
BEGIN:VEVENT
DTSTART;TZID=Europe/Paris:20231205T100000
DTEND;TZID=Europe/Paris:20231205T160000
DTSTAMP:20260423T202209
CREATED:20231002T131627Z
LAST-MODIFIED:20231002T144620Z
UID:6931-1701770400-1701792000@www.cooraceoccitanie.org
SUMMARY:Regroupement régional ZEST'
DESCRIPTION:
URL:https://www.cooraceoccitanie.org/evenement/regroupement-regional-zest/
LOCATION:Periscope\, 7 rue Hermes\, Ramonville saint Agne\, 31520\, France
ATTACH;FMTTYPE=image/jpeg:https://www.cooraceoccitanie.org/wp-content/uploads/2022/03/Coorace-Logo-couleur-Zest-scaled.jpg
END:VEVENT
END:VCALENDAR