BEGIN:VCALENDAR
VERSION:2.0
PRODID:-//Coorace Occitanie - ECPv6.5.1.5//NONSGML v1.0//EN
CALSCALE:GREGORIAN
METHOD:PUBLISH
X-ORIGINAL-URL:https://www.cooraceoccitanie.org
X-WR-CALDESC:évènements pour Coorace Occitanie
REFRESH-INTERVAL;VALUE=DURATION:PT1H
X-Robots-Tag:noindex
X-PUBLISHED-TTL:PT1H
BEGIN:VTIMEZONE
TZID:Europe/Paris
BEGIN:DAYLIGHT
TZOFFSETFROM:+0100
TZOFFSETTO:+0200
TZNAME:CEST
DTSTART:20230326T010000
END:DAYLIGHT
BEGIN:STANDARD
TZOFFSETFROM:+0200
TZOFFSETTO:+0100
TZNAME:CET
DTSTART:20231029T010000
END:STANDARD
END:VTIMEZONE
BEGIN:VEVENT
DTSTART;TZID=Europe/Paris:20231003T140000
DTEND;TZID=Europe/Paris:20231003T160000
DTSTAMP:20260423T233246
CREATED:20230706T101450Z
LAST-MODIFIED:20230706T101450Z
UID:6741-1696341600-1696348800@www.cooraceoccitanie.org
SUMMARY:Groupe d'échanges de pratique développement économique
DESCRIPTION:
URL:https://www.cooraceoccitanie.org/evenement/groupe-dechanges-de-pratique-developpement-economique/
LOCATION:à distance
ATTACH;FMTTYPE=image/jpeg:https://www.cooraceoccitanie.org/wp-content/uploads/2020/02/508065745.jpg
END:VEVENT
BEGIN:VEVENT
DTSTART;TZID=Europe/Paris:20231012T093000
DTEND;TZID=Europe/Paris:20231012T123000
DTSTAMP:20260423T233246
CREATED:20231002T130602Z
LAST-MODIFIED:20231002T130904Z
UID:6918-1697103000-1697113800@www.cooraceoccitanie.org
SUMMARY:Sensibilisation aux violences sexistes et sexuelles au travail-12
DESCRIPTION:
URL:https://www.cooraceoccitanie.org/evenement/sensibilisation-aux-violences-sexistes-et-sexuelles-au-travail/
LOCATION:Villefranche de Rouergue\, 12200\, France
ATTACH;FMTTYPE=image/jpeg:https://www.cooraceoccitanie.org/wp-content/uploads/2022/05/accompagnement.jpg
END:VEVENT
BEGIN:VEVENT
DTSTART;TZID=Europe/Paris:20231016T140000
DTEND;TZID=Europe/Paris:20231016T160000
DTSTAMP:20260423T233246
CREATED:20231002T125928Z
LAST-MODIFIED:20231002T125928Z
UID:6914-1697464800-1697472000@www.cooraceoccitanie.org
SUMMARY:Groupe d'échanges de pratiques CIP
DESCRIPTION:
URL:https://www.cooraceoccitanie.org/evenement/groupe-dechanges-de-pratiques-cip/
LOCATION:à distance
ATTACH;FMTTYPE=image/jpeg:https://www.cooraceoccitanie.org/wp-content/uploads/2022/10/people-g1dc750e3f_1920-scaled.jpg
END:VEVENT
BEGIN:VEVENT
DTSTART;TZID=Europe/Paris:20231026T093000
DTEND;TZID=Europe/Paris:20231026T093000
DTSTAMP:20260423T233246
CREATED:20231002T131114Z
LAST-MODIFIED:20231002T131249Z
UID:6927-1698312600-1698312600@www.cooraceoccitanie.org
SUMMARY:Sensibilisation aux violences sexistes et sexuelles au travail-09
DESCRIPTION:
URL:https://www.cooraceoccitanie.org/evenement/sensibilisation-aux-violences-sexistes-et-sexuelles-au-travail-12/
LOCATION:Pamiers\, 09102\, France
ATTACH;FMTTYPE=image/jpeg:https://www.cooraceoccitanie.org/wp-content/uploads/2022/05/accompagnement.jpg
END:VEVENT
END:VCALENDAR