BEGIN:VCALENDAR
VERSION:2.0
PRODID:-//Coorace Occitanie - ECPv6.5.1.5//NONSGML v1.0//EN
CALSCALE:GREGORIAN
METHOD:PUBLISH
X-ORIGINAL-URL:https://www.cooraceoccitanie.org
X-WR-CALDESC:évènements pour Coorace Occitanie
REFRESH-INTERVAL;VALUE=DURATION:PT1H
X-Robots-Tag:noindex
X-PUBLISHED-TTL:PT1H
BEGIN:VTIMEZONE
TZID:Europe/Paris
BEGIN:DAYLIGHT
TZOFFSETFROM:+0100
TZOFFSETTO:+0200
TZNAME:CEST
DTSTART:20230326T010000
END:DAYLIGHT
BEGIN:STANDARD
TZOFFSETFROM:+0200
TZOFFSETTO:+0100
TZNAME:CET
DTSTART:20231029T010000
END:STANDARD
END:VTIMEZONE
BEGIN:VEVENT
DTSTART;TZID=Europe/Paris:20230608T090000
DTEND;TZID=Europe/Paris:20230608T170000
DTSTAMP:20260424T062853
CREATED:20230321T104858Z
LAST-MODIFIED:20230321T104858Z
UID:6525-1686214800-1686243600@www.cooraceoccitanie.org
SUMMARY:Coorace Occitanie fête ses 30 ans
DESCRIPTION:
URL:https://www.cooraceoccitanie.org/evenement/coorace-occitanie-fete-ses-30-ans/
ATTACH;FMTTYPE=image/png:https://www.cooraceoccitanie.org/wp-content/uploads/2023/03/30-ans-OK.png
END:VEVENT
BEGIN:VEVENT
DTSTART;TZID=Europe/Paris:20230615T080000
DTEND;TZID=Europe/Paris:20230704T170000
DTSTAMP:20260424T062853
CREATED:20230220T162927Z
LAST-MODIFIED:20230220T163314Z
UID:6458-1686816000-1688490000@www.cooraceoccitanie.org
SUMMARY:Réglementation des Associations intermédiaires
DESCRIPTION:
URL:https://www.cooraceoccitanie.org/evenement/reglementation-des-associations-intermediaires-2/
LOCATION:REALIS\, 710 rue Favre de Saint Castor\, Montpellier\, 34080\, France
ATTACH;FMTTYPE=image/jpeg:https://www.cooraceoccitanie.org/wp-content/uploads/2023/02/dylan-gillis-KdeqA3aTnBY-unsplash-scaled.jpg
ORGANIZER;CN="Coorace formation":MAILTO:formation@coorace.org
END:VEVENT
BEGIN:VEVENT
DTSTART;TZID=Europe/Paris:20230627T103000
DTEND;TZID=Europe/Paris:20230627T123000
DTSTAMP:20260424T062853
CREATED:20230606T095714Z
LAST-MODIFIED:20230706T095904Z
UID:6732-1687861800-1687869000@www.cooraceoccitanie.org
SUMMARY:Animation Régionale: la marque employeur
DESCRIPTION:
URL:https://www.cooraceoccitanie.org/evenement/animation-regionale-la-marque-employeur/
LOCATION:à distance
ATTACH;FMTTYPE=image/jpeg:https://www.cooraceoccitanie.org/wp-content/uploads/2019/10/woman-3365370_1920.jpg
END:VEVENT
END:VCALENDAR