BEGIN:VCALENDAR
VERSION:2.0
PRODID:-//Coorace Occitanie - ECPv6.5.1.5//NONSGML v1.0//EN
CALSCALE:GREGORIAN
METHOD:PUBLISH
X-WR-CALNAME:Coorace Occitanie
X-ORIGINAL-URL:https://www.cooraceoccitanie.org
X-WR-CALDESC:évènements pour Coorace Occitanie
REFRESH-INTERVAL;VALUE=DURATION:PT1H
X-Robots-Tag:noindex
X-PUBLISHED-TTL:PT1H
BEGIN:VTIMEZONE
TZID:Europe/Paris
BEGIN:DAYLIGHT
TZOFFSETFROM:+0100
TZOFFSETTO:+0200
TZNAME:CEST
DTSTART:20210328T010000
END:DAYLIGHT
BEGIN:STANDARD
TZOFFSETFROM:+0200
TZOFFSETTO:+0100
TZNAME:CET
DTSTART:20211031T010000
END:STANDARD
END:VTIMEZONE
BEGIN:VEVENT
DTSTART;TZID=Europe/Paris:20210916T093000
DTEND;TZID=Europe/Paris:20210916T160000
DTSTAMP:20260425T180234
CREATED:20210831T070929Z
LAST-MODIFIED:20210831T071138Z
UID:4131-1631784600-1631808000@www.cooraceoccitanie.org
SUMMARY:Animation Régionale: bâtissons la fédération de demain
DESCRIPTION:
URL:https://www.cooraceoccitanie.org/evenement/animation-regionale-batissons-la-federation-de-demain/
ATTACH;FMTTYPE=image/png:https://www.cooraceoccitanie.org/wp-content/uploads/2021/08/congres-Lille.png
END:VEVENT
END:VCALENDAR