BEGIN:VCALENDAR
VERSION:2.0
PRODID:-//Coorace Occitanie - ECPv6.5.1.5//NONSGML v1.0//EN
CALSCALE:GREGORIAN
METHOD:PUBLISH
X-WR-CALNAME:Coorace Occitanie
X-ORIGINAL-URL:https://www.cooraceoccitanie.org
X-WR-CALDESC:évènements pour Coorace Occitanie
REFRESH-INTERVAL;VALUE=DURATION:PT1H
X-Robots-Tag:noindex
X-PUBLISHED-TTL:PT1H
BEGIN:VTIMEZONE
TZID:Europe/Paris
BEGIN:DAYLIGHT
TZOFFSETFROM:+0100
TZOFFSETTO:+0200
TZNAME:CEST
DTSTART:20240331T010000
END:DAYLIGHT
BEGIN:STANDARD
TZOFFSETFROM:+0200
TZOFFSETTO:+0100
TZNAME:CET
DTSTART:20241027T010000
END:STANDARD
END:VTIMEZONE
BEGIN:VEVENT
DTSTART;TZID=Europe/Paris:20240620T100000
DTEND;TZID=Europe/Paris:20240620T120000
DTSTAMP:20260423T122241
CREATED:20240415T093420Z
LAST-MODIFIED:20240415T094320Z
UID:7485-1718877600-1718884800@www.cooraceoccitanie.org
SUMMARY:Groupe d'échanges de pratiques CIP
DESCRIPTION:
URL:https://www.cooraceoccitanie.org/evenement/groupe-dechanges-de-pratiques-cip-3/
ATTACH;FMTTYPE=image/jpeg:https://www.cooraceoccitanie.org/wp-content/uploads/2019/12/formation-adultes-grand.jpg
END:VEVENT
END:VCALENDAR