BEGIN:VCALENDAR
VERSION:2.0
PRODID:-//Coorace Occitanie - ECPv6.5.1.5//NONSGML v1.0//EN
CALSCALE:GREGORIAN
METHOD:PUBLISH
X-ORIGINAL-URL:https://www.cooraceoccitanie.org
X-WR-CALDESC:évènements pour Coorace Occitanie
REFRESH-INTERVAL;VALUE=DURATION:PT1H
X-Robots-Tag:noindex
X-PUBLISHED-TTL:PT1H
BEGIN:VTIMEZONE
TZID:Europe/Paris
BEGIN:DAYLIGHT
TZOFFSETFROM:+0100
TZOFFSETTO:+0200
TZNAME:CEST
DTSTART:20240331T010000
END:DAYLIGHT
BEGIN:STANDARD
TZOFFSETFROM:+0200
TZOFFSETTO:+0100
TZNAME:CET
DTSTART:20241027T010000
END:STANDARD
END:VTIMEZONE
BEGIN:VEVENT
DTSTART;TZID=Europe/Paris:20240528T090000
DTEND;TZID=Europe/Paris:20240528T170000
DTSTAMP:20260423T122416
CREATED:20240524T134118Z
LAST-MODIFIED:20240524T134118Z
UID:7561-1716886800-1716915600@www.cooraceoccitanie.org
SUMMARY:Formation "Marchés publics"
DESCRIPTION:
URL:https://www.cooraceoccitanie.org/evenement/formation-marches-publics-2/
LOCATION:à distance
ATTACH;FMTTYPE=image/png:https://www.cooraceoccitanie.org/wp-content/uploads/2023/10/logo-irio-complet-e1697466703413.png
END:VEVENT
END:VCALENDAR