BEGIN:VCALENDAR
VERSION:2.0
PRODID:-//Coorace Occitanie - ECPv6.5.1.5//NONSGML v1.0//EN
CALSCALE:GREGORIAN
METHOD:PUBLISH
X-ORIGINAL-URL:https://www.cooraceoccitanie.org
X-WR-CALDESC:évènements pour Coorace Occitanie
REFRESH-INTERVAL;VALUE=DURATION:PT1H
X-Robots-Tag:noindex
X-PUBLISHED-TTL:PT1H
BEGIN:VTIMEZONE
TZID:Europe/Paris
BEGIN:DAYLIGHT
TZOFFSETFROM:+0100
TZOFFSETTO:+0200
TZNAME:CEST
DTSTART:20230326T010000
END:DAYLIGHT
BEGIN:STANDARD
TZOFFSETFROM:+0200
TZOFFSETTO:+0100
TZNAME:CET
DTSTART:20231029T010000
END:STANDARD
END:VTIMEZONE
BEGIN:VEVENT
DTSTART;TZID=Europe/Paris:20230417T093000
DTEND;TZID=Europe/Paris:20230418T170000
DTSTAMP:20260424T112519
CREATED:20230220T162024Z
LAST-MODIFIED:20230220T162110Z
UID:6455-1681723800-1681837200@www.cooraceoccitanie.org
SUMMARY:Formation :Développer son activité par une posture ajustée dans les visites commerciales
DESCRIPTION:
URL:https://www.cooraceoccitanie.org/evenement/formation-developper-son-activite-par-une-posture-ajustee-dans-les-visites-commerciales/
LOCATION:Periscope\, 7 rue Hermes\, Ramonville saint Agne\, 31520\, France
ATTACH;FMTTYPE=image/jpeg:https://www.cooraceoccitanie.org/wp-content/uploads/2022/05/entretien_M-scaled.jpg
ORGANIZER;CN="Coorace formation":MAILTO:formation@coorace.org
END:VEVENT
END:VCALENDAR