BEGIN:VCALENDAR
VERSION:2.0
PRODID:-//Coorace Occitanie - ECPv6.5.1.5//NONSGML v1.0//EN
CALSCALE:GREGORIAN
METHOD:PUBLISH
X-WR-CALNAME:Coorace Occitanie
X-ORIGINAL-URL:https://www.cooraceoccitanie.org
X-WR-CALDESC:évènements pour Coorace Occitanie
REFRESH-INTERVAL;VALUE=DURATION:PT1H
X-Robots-Tag:noindex
X-PUBLISHED-TTL:PT1H
BEGIN:VTIMEZONE
TZID:Europe/Paris
BEGIN:DAYLIGHT
TZOFFSETFROM:+0100
TZOFFSETTO:+0200
TZNAME:CEST
DTSTART:20220327T010000
END:DAYLIGHT
BEGIN:STANDARD
TZOFFSETFROM:+0200
TZOFFSETTO:+0100
TZNAME:CET
DTSTART:20221030T010000
END:STANDARD
END:VTIMEZONE
BEGIN:VEVENT
DTSTART;TZID=Europe/Paris:20221115T090000
DTEND;TZID=Europe/Paris:20221115T160000
DTSTAMP:20260424T202040
CREATED:20220915T144141Z
LAST-MODIFIED:20221018T110444Z
UID:6151-1668502800-1668528000@www.cooraceoccitanie.org
SUMMARY:Journée régionale de la plateforme de professionnalisation IAE Occitanie
DESCRIPTION:
URL:https://www.cooraceoccitanie.org/evenement/journee-regionale-de-la-plateforme-de-professionnalisation-iae-occitanie/
LOCATION:espace vestrepain\, 24 Rue Vestrepain\, toulouse\, 31100\, France
ATTACH;FMTTYPE=image/png:https://www.cooraceoccitanie.org/wp-content/uploads/2022/09/people-3245739.png
END:VEVENT
END:VCALENDAR