BEGIN:VCALENDAR
VERSION:2.0
PRODID:-//Coorace Occitanie - ECPv6.5.1.5//NONSGML v1.0//EN
CALSCALE:GREGORIAN
METHOD:PUBLISH
X-ORIGINAL-URL:https://www.cooraceoccitanie.org
X-WR-CALDESC:évènements pour Coorace Occitanie
REFRESH-INTERVAL;VALUE=DURATION:PT1H
X-Robots-Tag:noindex
X-PUBLISHED-TTL:PT1H
BEGIN:VTIMEZONE
TZID:Europe/Paris
BEGIN:DAYLIGHT
TZOFFSETFROM:+0100
TZOFFSETTO:+0200
TZNAME:CEST
DTSTART:20220327T010000
END:DAYLIGHT
BEGIN:STANDARD
TZOFFSETFROM:+0200
TZOFFSETTO:+0100
TZNAME:CET
DTSTART:20221030T010000
END:STANDARD
END:VTIMEZONE
BEGIN:VEVENT
DTSTART;TZID=Europe/Paris:20220913T140000
DTEND;TZID=Europe/Paris:20220913T160000
DTSTAMP:20260424T235149
CREATED:20220722T091009Z
LAST-MODIFIED:20220722T091526Z
UID:6063-1663077600-1663084800@www.cooraceoccitanie.org
SUMMARY:Webinaire: les GEIQ en Occitanie\, quel partenariat avec les SIAE?
DESCRIPTION:
URL:https://www.cooraceoccitanie.org/evenement/webinaire-les-geiq-en-occitanie-quel-partenariat-avec-les-siae/
LOCATION:à distance
ATTACH;FMTTYPE=image/jpeg:https://www.cooraceoccitanie.org/wp-content/uploads/2022/07/Geiq.jpg
END:VEVENT
END:VCALENDAR